BEGIN:VCALENDAR
VERSION:2.0
PRODID:-//hacksw/handcal//NONSGML v1.0//EN
BEGIN:VEVENT
DTSTAMP:20260420T110500Z
DTSTART:20260420T110500Z
DTEND:20260424T130500Z
SUMMARY:Sitzungswoche Deutscher Bundestag
END:VEVENT
END:VCALENDAR
