BEGIN:VCALENDAR
VERSION:2.0
PRODID:-//hacksw/handcal//NONSGML v1.0//EN
BEGIN:VEVENT
DTSTAMP:20260413T134000Z
DTSTART:20260413T134000Z
DTEND:20260417T134000Z
SUMMARY:Sitzungswoche Deutscher Bundestag
END:VEVENT
END:VCALENDAR
