BEGIN:VCALENDAR
VERSION:2.0
PRODID:-//hacksw/handcal//NONSGML v1.0//EN
BEGIN:VEVENT
DTSTAMP:20250512T160000Z
DTSTART:20250512T160000Z
DTEND:20250512T160000Z
LOCATION:Berlin , Humboldtforum, Deutschland
SUMMARY:Wirtschaftsrat Baden Württemberg mit Günther Oettinger
END:VEVENT
END:VCALENDAR
